BEGIN:VCALENDAR
PRODID:http://www.kufer.de/kuferweb / DE
VERSION:2.0
METHOD:PUBLISH
CALSCALE:GREGORIAN
X-WR-TIMEZONE:Europe/Berlin
BEGIN:VTIMEZONE
TZID:Europe/Berlin
X-LIC-LOCATION:Europe/Berlin
BEGIN:DAYLIGHT
TZOFFSETFROM:+0100
TZOFFSETTO:+0200
TZNAME:CEST
DTSTART;TZID=Europe/Berlin:19700329T020000
RRULE:FREQ=YEARLY;INTERVAL=1;BYDAY=-1SU;BYMONTH=3
END:DAYLIGHT
BEGIN:STANDARD
TZOFFSETFROM:+0200
TZOFFSETTO:+0100
TZNAME:CET
DTSTART;TZID=Europe/Berlin:19701025T030000
RRULE:FREQ=YEARLY;INTERVAL=1;BYDAY=-1SU;BYMONTH=10
END:STANDARD
END:VTIMEZONE
BEGIN:VEVENT
DTSTAMP:20260420T150739
DTSTART;TZID=Europe/Berlin:20260206T080000
DTEND;TZID=Europe/Berlin:20260206T093000
UID:261-1851-20260206T080000@VHSMÜLHEIM
SUMMARY:ONLINE: Early Birds - Schwedisch A1.2 (261-1851) 
LOCATION:- online -, , Online
END:VEVENT
BEGIN:VEVENT
DTSTAMP:20260420T150739
DTSTART;TZID=Europe/Berlin:20260213T080000
DTEND;TZID=Europe/Berlin:20260213T093000
UID:261-1851-20260213T080000@VHSMÜLHEIM
SUMMARY:ONLINE: Early Birds - Schwedisch A1.2 (261-1851) 
LOCATION:- online -, , Online
END:VEVENT
BEGIN:VEVENT
DTSTAMP:20260420T150739
DTSTART;TZID=Europe/Berlin:20260220T080000
DTEND;TZID=Europe/Berlin:20260220T093000
UID:261-1851-20260220T080000@VHSMÜLHEIM
SUMMARY:ONLINE: Early Birds - Schwedisch A1.2 (261-1851) 
LOCATION:- online -, , Online
END:VEVENT
BEGIN:VEVENT
DTSTAMP:20260420T150739
DTSTART;TZID=Europe/Berlin:20260227T080000
DTEND;TZID=Europe/Berlin:20260227T093000
UID:261-1851-20260227T080000@VHSMÜLHEIM
SUMMARY:ONLINE: Early Birds - Schwedisch A1.2 (261-1851) 
LOCATION:- online -, , Online
END:VEVENT
BEGIN:VEVENT
DTSTAMP:20260420T150739
DTSTART;TZID=Europe/Berlin:20260306T080000
DTEND;TZID=Europe/Berlin:20260306T093000
UID:261-1851-20260306T080000@VHSMÜLHEIM
SUMMARY:ONLINE: Early Birds - Schwedisch A1.2 (261-1851) 
LOCATION:- online -, , Online
END:VEVENT
BEGIN:VEVENT
DTSTAMP:20260420T150739
DTSTART;TZID=Europe/Berlin:20260313T080000
DTEND;TZID=Europe/Berlin:20260313T093000
UID:261-1851-20260313T080000@VHSMÜLHEIM
SUMMARY:ONLINE: Early Birds - Schwedisch A1.2 (261-1851) 
LOCATION:- online -, , Online
END:VEVENT
BEGIN:VEVENT
DTSTAMP:20260420T150739
DTSTART;TZID=Europe/Berlin:20260320T080000
DTEND;TZID=Europe/Berlin:20260320T093000
UID:261-1851-20260320T080000@VHSMÜLHEIM
SUMMARY:ONLINE: Early Birds - Schwedisch A1.2 (261-1851) 
LOCATION:- online -, , Online
END:VEVENT
BEGIN:VEVENT
DTSTAMP:20260420T150739
DTSTART;TZID=Europe/Berlin:20260327T080000
DTEND;TZID=Europe/Berlin:20260327T093000
UID:261-1851-20260327T080000@VHSMÜLHEIM
SUMMARY:ONLINE: Early Birds - Schwedisch A1.2 (261-1851) 
LOCATION:- online -, , Online
END:VEVENT
BEGIN:VEVENT
DTSTAMP:20260420T150739
DTSTART;TZID=Europe/Berlin:20260424T080000
DTEND;TZID=Europe/Berlin:20260424T093000
UID:261-1851-20260424T080000@VHSMÜLHEIM
SUMMARY:ONLINE: Early Birds - Schwedisch A1.2 (261-1851) 
LOCATION:- online -, , Online
END:VEVENT
BEGIN:VEVENT
DTSTAMP:20260420T150739
DTSTART;TZID=Europe/Berlin:20260508T080000
DTEND;TZID=Europe/Berlin:20260508T093000
UID:261-1851-20260508T080000@VHSMÜLHEIM
SUMMARY:ONLINE: Early Birds - Schwedisch A1.2 (261-1851) 
LOCATION:- online -, , Online
END:VEVENT
BEGIN:VEVENT
DTSTAMP:20260420T150739
DTSTART;TZID=Europe/Berlin:20260515T080000
DTEND;TZID=Europe/Berlin:20260515T093000
UID:261-1851-20260515T080000@VHSMÜLHEIM
SUMMARY:ONLINE: Early Birds - Schwedisch A1.2 (261-1851) 
LOCATION:- online -, , Online
END:VEVENT
BEGIN:VEVENT
DTSTAMP:20260420T150739
DTSTART;TZID=Europe/Berlin:20260522T080000
DTEND;TZID=Europe/Berlin:20260522T093000
UID:261-1851-20260522T080000@VHSMÜLHEIM
SUMMARY:ONLINE: Early Birds - Schwedisch A1.2 (261-1851) 
LOCATION:- online -, , Online
END:VEVENT
BEGIN:VEVENT
DTSTAMP:20260420T150739
DTSTART;TZID=Europe/Berlin:20260529T080000
DTEND;TZID=Europe/Berlin:20260529T093000
UID:261-1851-20260529T080000@VHSMÜLHEIM
SUMMARY:ONLINE: Early Birds - Schwedisch A1.2 (261-1851) 
LOCATION:- online -, , Online
END:VEVENT
BEGIN:VEVENT
DTSTAMP:20260420T150739
DTSTART;TZID=Europe/Berlin:20260605T080000
DTEND;TZID=Europe/Berlin:20260605T093000
UID:261-1851-20260605T080000@VHSMÜLHEIM
SUMMARY:ONLINE: Early Birds - Schwedisch A1.2 (261-1851) 
LOCATION:- online -, , Online
END:VEVENT
BEGIN:VEVENT
DTSTAMP:20260420T150739
DTSTART;TZID=Europe/Berlin:20260612T080000
DTEND;TZID=Europe/Berlin:20260612T093000
UID:261-1851-20260612T080000@VHSMÜLHEIM
SUMMARY:ONLINE: Early Birds - Schwedisch A1.2 (261-1851) 
LOCATION:- online -, , Online
END:VEVENT
BEGIN:VEVENT
DTSTAMP:20260420T150739
DTSTART;TZID=Europe/Berlin:20260619T080000
DTEND;TZID=Europe/Berlin:20260619T093000
UID:261-1851-20260619T080000@VHSMÜLHEIM
DESCRIPTION:NT f. 17.04.
SUMMARY:ONLINE: Early Birds - Schwedisch A1.2 (261-1851) 
LOCATION:- online -, , Online
END:VEVENT
END:VCALENDAR